BEGIN:VCALENDAR
VERSION:2.0
PRODID:-//Kreishandwerkerschaft Coesfeld - ECPv6.15.16//NONSGML v1.0//EN
CALSCALE:GREGORIAN
METHOD:PUBLISH
X-WR-CALNAME:Kreishandwerkerschaft Coesfeld
X-ORIGINAL-URL:https://kh-coesfeld.de
X-WR-CALDESC:Veranstaltungen für Kreishandwerkerschaft Coesfeld
REFRESH-INTERVAL;VALUE=DURATION:PT1H
X-Robots-Tag:noindex
X-PUBLISHED-TTL:PT1H
BEGIN:VTIMEZONE
TZID:Europe/Berlin
BEGIN:DAYLIGHT
TZOFFSETFROM:+0100
TZOFFSETTO:+0200
TZNAME:CEST
DTSTART:20250330T010000
END:DAYLIGHT
BEGIN:STANDARD
TZOFFSETFROM:+0200
TZOFFSETTO:+0100
TZNAME:CET
DTSTART:20251026T010000
END:STANDARD
BEGIN:DAYLIGHT
TZOFFSETFROM:+0100
TZOFFSETTO:+0200
TZNAME:CEST
DTSTART:20260329T010000
END:DAYLIGHT
BEGIN:STANDARD
TZOFFSETFROM:+0200
TZOFFSETTO:+0100
TZNAME:CET
DTSTART:20261025T010000
END:STANDARD
BEGIN:DAYLIGHT
TZOFFSETFROM:+0100
TZOFFSETTO:+0200
TZNAME:CEST
DTSTART:20270328T010000
END:DAYLIGHT
BEGIN:STANDARD
TZOFFSETFROM:+0200
TZOFFSETTO:+0100
TZNAME:CET
DTSTART:20271031T010000
END:STANDARD
END:VTIMEZONE
BEGIN:VEVENT
DTSTART;TZID=Europe/Berlin:20260319T190000
DTEND;TZID=Europe/Berlin:20260319T203000
DTSTAMP:20260421T141542
CREATED:20251030T121245Z
LAST-MODIFIED:20260302T112630Z
UID:10000168-1773946800-1773952200@kh-coesfeld.de
SUMMARY:Nah dran - Wege in den Beruf - Für Jugendliche UND ihre Eltern
DESCRIPTION:Junge Menschen berichten offen und persönlich von ihrem Weg ins Berufsleben und wer und was ihnen dabei geholfen hat. Sie erzählen von Beratungen\, Praktika und wie wichtig\nihre Eltern dabei waren. \nDonnerstag\, 19. März 2026 18:30 Uhr\, Bistro Orange im einsA\,Dülmen. \nFür Jugendliche\, die noch auf der Suche sind – oder gerade anfangen\, sich zu orientieren.  Und für Eltern\, die ihre Kinder begleiten wollen und sich fragen\, wie sie am besten unterstützen können. \nDas erwartet unsere Gäste:  \n\nEhrliche Stories statt Hochglanz-Karrierepfade\nTipps aus erster Hand – von jungen Leuten für junge Leute\nRaum für Fragen\, Austausch und Perspektiven\n\n\n\nVorbeikommen\, zuhören\, nachfragen \n🎟 Eintritt frei | Eine Anmeldung ist nicht erforderlich. \n  \nDas Bistro Orange im einsA befindet sich unmittelbar vor (von Nonnengasse/Münsterstraße kommend) bzw. hinter (von Plusch kommend) dem Dülmener Rathaus\, Markt 1. \nKostenpflichtige Parkmöglichkeiten stehen am Parkplatz an der Nonnengasse/Münsterstraße zur Verfügung. Kostenfreie Parkmöglichkeiten befinden sich in der Nähe des Cinema Dülmen an der Straße Plusch (ca. 5 Minuten Fußweg). \n            \nEine gemeinschaftliche Aktion von der Bundesagentur für Arbeit – Agentur für Arbeit Kreis Coesfeld\, Kreis Coesfeld und der Kreishandwerkerschaft Coesfeld.
URL:https://kh-coesfeld.de/veranstaltung/save-the-date-nah-dran-wege-in-den-beruf-fuer-jugendliche-und-ihre-eltern/
LOCATION:1A Ein  Haus für alle\, Bült 1A\, Dülmen\, Nordrhein-Westfalen\, 48249\, Deutschland
ORGANIZER;CN="Kreishandwerkerschaft Coesfeld":MAILTO:info@kh-coesfeld.de
END:VEVENT
BEGIN:VEVENT
DTSTART;TZID=Europe/Berlin:20260204T150000
DTEND;TZID=Europe/Berlin:20260204T170000
DTSTAMP:20260421T141542
CREATED:20251114T092409Z
LAST-MODIFIED:20251114T092510Z
UID:10000178-1770217200-1770224400@kh-coesfeld.de
SUMMARY:„Kreativ mit LEGO“ ab 8 Jahren - ZDI
DESCRIPTION:In diesem Projekt dreht sich alles um LEGO®\, Fantasie und Teamarbeit: Aufgabe wird es sein\, modulare LEGO-Objekte anzufertigen\, die als Kulisse für eine StopMotion-Produktion dienen. Ausgewählte Stücke werden zudem im Mai in der Lokalrunde des zdi-Roboterwettbewerbs in der Kategorie GAME als Aufbauten auf dem „Spielfeld“ dienen. Der zdi-Roboterwettbewerb ermöglicht jungen Menschen einen spielerischen Zugang zu Roboterkonstruktion und Programmierung. Zwölf Teams aus weiterführenden Schulen und Grundschulen aus dem Kreis Coesfeld und Umgebung haben die Gelegenheit in der Lokalrunde gegeneinander anzutreten. Mit etwas Glück steht am Ende die Teilnahme am landesweiten Finalwettbewerb.  \nWeitere Informationen zum zdi-Roboterwettbewerb erhalten Sie beim zdi-Netzwerk Kreis Coesfeld und auf der MINT-Community. Weitere Infos auf der Homepage: Details – Termine – Termine und News – Regionales Bildungsnetzwerk im Kreis Coesfeld.\nAnmeldungen unter zdi@kreis-coesfeld.de.
URL:https://kh-coesfeld.de/veranstaltung/kreativ-mit-lego-ab-8-jahren-am-4-februar-von-1500-1730-uhr-im-einsa-in-duelmen/
LOCATION:1A Ein  Haus für alle\, Bült 1A\, Dülmen\, Nordrhein-Westfalen\, 48249\, Deutschland
ORGANIZER;CN="ZDI Kreis Coesfeld":MAILTO:zdi@kreis-coesfeld.de
END:VEVENT
END:VCALENDAR