BEGIN:VCALENDAR
VERSION:2.0
PRODID:-//Kreishandwerkerschaft Coesfeld - ECPv6.15.16//NONSGML v1.0//EN
CALSCALE:GREGORIAN
METHOD:PUBLISH
X-WR-CALNAME:Kreishandwerkerschaft Coesfeld
X-ORIGINAL-URL:http://kh-coesfeld.de
X-WR-CALDESC:Veranstaltungen für Kreishandwerkerschaft Coesfeld
REFRESH-INTERVAL;VALUE=DURATION:PT1H
X-Robots-Tag:noindex
X-PUBLISHED-TTL:PT1H
BEGIN:VTIMEZONE
TZID:Europe/Berlin
BEGIN:DAYLIGHT
TZOFFSETFROM:+0100
TZOFFSETTO:+0200
TZNAME:CEST
DTSTART:20240331T010000
END:DAYLIGHT
BEGIN:STANDARD
TZOFFSETFROM:+0200
TZOFFSETTO:+0100
TZNAME:CET
DTSTART:20241027T010000
END:STANDARD
BEGIN:DAYLIGHT
TZOFFSETFROM:+0100
TZOFFSETTO:+0200
TZNAME:CEST
DTSTART:20250330T010000
END:DAYLIGHT
BEGIN:STANDARD
TZOFFSETFROM:+0200
TZOFFSETTO:+0100
TZNAME:CET
DTSTART:20251026T010000
END:STANDARD
BEGIN:DAYLIGHT
TZOFFSETFROM:+0100
TZOFFSETTO:+0200
TZNAME:CEST
DTSTART:20260329T010000
END:DAYLIGHT
BEGIN:STANDARD
TZOFFSETFROM:+0200
TZOFFSETTO:+0100
TZNAME:CET
DTSTART:20261025T010000
END:STANDARD
END:VTIMEZONE
BEGIN:VEVENT
DTSTART;TZID=Europe/Berlin:20251201T190000
DTEND;TZID=Europe/Berlin:20251201T210000
DTSTAMP:20260422T125434
CREATED:20251009T121407Z
LAST-MODIFIED:20251110T085152Z
UID:10000166-1764615600-1764622800@kh-coesfeld.de
SUMMARY:Regionalgespräche Kfz am 1. Dezember in Nordkirchen
DESCRIPTION:Wir laden ein zu den Regionalgesprächen unserer Kfz-Innung \nam Montag\, 1. Dezember  um 19:00 Uhr  \nLandgasthaus Simonsmeier\, Werner Str. 20\, 59394 Nordkirchen. \n \n\n\n\n\n\n\n\n\n\nBitte melden Sie sich an über unsere KH-Plattform  \n\n\n\n\n\n\nAnsprechpartner für den Zugang \n\n\n\n\nNoch keine Zugangsdaten zu diesem hilfreichen Tool? \nEinfach melden bei Eva Vörding unter Tel. 02541 9456 26\, oder via E-Mail innungsbetreuung@kh-coesfeld.de
URL:http://kh-coesfeld.de/veranstaltung/regionalgespraeche-kfz-am-1-dezember-in-nordkirchen/
LOCATION:Landgasthaus Simonsmeier\, Werner Str. 20\, 59394 Nordkirchen
ATTACH;FMTTYPE=image/png:http://kh-coesfeld.de/wp-content/uploads/2025/10/Kfz.png
ORGANIZER;CN="Kreishandwerkerschaft Coesfeld":MAILTO:info@kh-coesfeld.de
END:VEVENT
END:VCALENDAR